BEGIN:VCALENDAR
VERSION:2.0
PRODID:-//Forum50plus - ECPv6.15.20//NONSGML v1.0//EN
CALSCALE:GREGORIAN
METHOD:PUBLISH
X-ORIGINAL-URL:https://forum50plus-erbach.de
X-WR-CALDESC:Veranstaltungen für Forum50plus
REFRESH-INTERVAL;VALUE=DURATION:PT1H
X-Robots-Tag:noindex
X-PUBLISHED-TTL:PT1H
BEGIN:VTIMEZONE
TZID:Europe/Berlin
BEGIN:DAYLIGHT
TZOFFSETFROM:+0100
TZOFFSETTO:+0200
TZNAME:CEST
DTSTART:20240331T010000
END:DAYLIGHT
BEGIN:STANDARD
TZOFFSETFROM:+0200
TZOFFSETTO:+0100
TZNAME:CET
DTSTART:20241027T010000
END:STANDARD
BEGIN:DAYLIGHT
TZOFFSETFROM:+0100
TZOFFSETTO:+0200
TZNAME:CEST
DTSTART:20250330T010000
END:DAYLIGHT
BEGIN:STANDARD
TZOFFSETFROM:+0200
TZOFFSETTO:+0100
TZNAME:CET
DTSTART:20251026T010000
END:STANDARD
BEGIN:DAYLIGHT
TZOFFSETFROM:+0100
TZOFFSETTO:+0200
TZNAME:CEST
DTSTART:20260329T010000
END:DAYLIGHT
BEGIN:STANDARD
TZOFFSETFROM:+0200
TZOFFSETTO:+0100
TZNAME:CET
DTSTART:20261025T010000
END:STANDARD
END:VTIMEZONE
BEGIN:VEVENT
DTSTART;TZID=Europe/Berlin:20251011T180000
DTEND;TZID=Europe/Berlin:20251011T230000
DTSTAMP:20260419T183050
CREATED:20250830T094727Z
LAST-MODIFIED:20250928T204353Z
UID:3594-1760205600-1760223600@forum50plus-erbach.de
SUMMARY:Herbsthockete mit dem Musikduo Junginger
DESCRIPTION:Liebe Erbacher\, Freunde und Mitglieder des Forum 50+ . Der Herbst hat ja geradezu brutal den Spätsommer abgelöst. Kälte und Regen treiben die Menschen in die Häuser. Da trifft es sich doch gut\, dass das Forum wieder seine traditionelle Herbsthockete organisiert. \n\n\n\nFür beste Unterhaltung sorgt das Musikduo Junginger\, für beste Speisen und Getränke unser Thekenteam. Genaueres erfahrt ihr nächste Woche; nur soviel: es gibt ein neues Getränk names „heiße Liebe“ ! \n\n\n\nWir sehen uns ab 18 Uhr im Forum-Treff\, Jahnstraße 28.
URL:https://forum50plus-erbach.de/event/herbsthockete-mit-dem-duo-junginger/
ATTACH;FMTTYPE=image/jpeg:https://forum50plus-erbach.de/wp-content/uploads/2023/02/Jungingers-2-scaled.jpg
END:VEVENT
BEGIN:VEVENT
DTSTART;TZID=Europe/Berlin:20251013T190000
DTEND;TZID=Europe/Berlin:20251013T203000
DTSTAMP:20260419T183050
CREATED:20251005T170141Z
LAST-MODIFIED:20251005T172458Z
UID:3657-1760382000-1760387400@forum50plus-erbach.de
SUMMARY:Höhlenforschung in und um Blaubeuren
DESCRIPTION:Herr Brenndörfer ist der 2. Vorsitzende des Höhlenvereins Blaubeuren \n\n\n\nForschung zwischen Höhlensuche\, Befahrung von Höhlen und wissenschaftlichen Projekten abseits von Schauhöhlen.Die Blaubeurer Alb ist eines der höhlenreichsten Gebiete Deutschlands. Damit ergeben sich für Höhlenforscher vielfältige interessante Aufgaben und Möglichkeiten.Von der Arbeit der Mitglieder des Höhlenvereins Blaubeuren e.V. wird in dem Vortrag berichtet. Dabei gibt es aktuelle Einblicke in die Erforschung und Neuentdeckung von beeindruckenden und normalerweise unzugänglichen Höhlen rund um Blaubeuren.
URL:https://forum50plus-erbach.de/event/montagsgast-k-brenndoerfer-vom-hoehlenverein-blaubeuren-am-13-10/
END:VEVENT
BEGIN:VEVENT
DTSTART;TZID=Europe/Berlin:20251022T060000
DTEND;TZID=Europe/Berlin:20251022T223000
DTSTAMP:20260419T183050
CREATED:20250922T222220Z
LAST-MODIFIED:20250922T222222Z
UID:3637-1761112800-1761172200@forum50plus-erbach.de
SUMMARY:Forum unterwegs: Straßburg
DESCRIPTION:Straßburg Mittwoch 22.10.2025 \n\n\n\nStadtbesichtigung \n\n\n\nDie elsässische Stadt Straßburg direkt am Rhein an der Grenze zu Deutschland mit rund 300.000 Einwohnern ist nicht nur berühmt wegen seiner historischen Altstadt\, sondern auch wegen seiner zahlreichen europäischen Einrichtungen. \n\n\n\nEuropa Parlament \n\n\n\n\n\n\n\n„Demokratie in Aktion“ unter diesem Motto besuchen wir das europäische Parlament in Straßburg. Uns Allen ist in dieser Zeit völlig bewusst\, welche Bedeutung ein funktionierendes\, einiges und selbständiges Europa hat. Wir werden über die Bedeutung und Funktionsweise des Parlaments ausführlich informiert und erleben anschließend auf der Besuchertribüne live eine Parlamentsdebatte. \n\n\n\nProgramm: \n\n\n\n\n06:00 Uhr Abfahrt am Busbahnhof Erbach\n\n\n\n11:00 Uhr Stadtrundfahrt mit der Bimmelbahn (petit train) Wir genießen den Charme der engen Gassen sowie die Romantik von Petit France (Klein Frankreich) bis zum berühmten Münsterplatz\n\n\n\n13:00 Uhr Mittagessen in einem urigen traditionellen elsässischen Restaurant\n\n\n\n15:30 Uhr Eintreffen am europäischen Parlament\n\n\n\n16:30 – 17:30 Uhr Informationsgespräch\n\n\n\n17:30 — 18:00 Uhr Besuchertribüne des Plenarsaals\n\n\n\n18:30 Uhr Rückfahrt nach Erbach\n\n\n\n\nDer Fahrpreis beträgt für Mitglieder € 50\,00 und für Nichtmitglieder € 60\,00 der Fahrpreis wird im Bus erhoben. \n\n\n\nAchtung Sonderregelung Anmeldung! \n\n\n\nWegen der Sicherheitskontrollen im Europa Parlament sind folgende Angaben zwingend: Vorname (alle)\, Nachname\, E-Mail Adresse soweit vorhanden\, Geburtsdatum\, Staatsangehörigkeit\, Dokumententyp ( Personalausweis oder Reisepass ) Dokumentennummer\, Dokument gültig bis. Bitte füllt das ausliegende Anmeldeformular sorgfältig\, vollständig und lesbar aus. Bei Differenzen zwischen Anmeldung und Dokumenten\, oder fehlenden Angabe kann es zu einer Abweisung zum Eintritt in das Parlamentsgebäude kommen.Anmeldung am Freitag 26.September 13:00 – 15:00 Uhr im Forum Treff.  Danach mit E-Mail an rainer.diebel@t-online.de
URL:https://forum50plus-erbach.de/event/forum-unterwegs-strassburg/
CATEGORIES:Forum unterwegs
END:VEVENT
BEGIN:VEVENT
DTSTART;TZID=Europe/Berlin:20251025T190000
DTEND;TZID=Europe/Berlin:20251025T233000
DTSTAMP:20260419T183050
CREATED:20250830T094055Z
LAST-MODIFIED:20251019T173851Z
UID:3587-1761418800-1761435000@forum50plus-erbach.de
SUMMARY:Tanzabend in der Erlenbachhalle
DESCRIPTION:
URL:https://forum50plus-erbach.de/event/tanzabend-in-der-erlenbachhalle-3/
END:VEVENT
END:VCALENDAR