BEGIN:VCALENDAR
VERSION:2.0
PRODID:-//Forum50plus - ECPv6.15.20//NONSGML v1.0//EN
CALSCALE:GREGORIAN
METHOD:PUBLISH
X-ORIGINAL-URL:https://forum50plus-erbach.de
X-WR-CALDESC:Veranstaltungen für Forum50plus
REFRESH-INTERVAL;VALUE=DURATION:PT1H
X-Robots-Tag:noindex
X-PUBLISHED-TTL:PT1H
BEGIN:VTIMEZONE
TZID:Europe/Berlin
BEGIN:DAYLIGHT
TZOFFSETFROM:+0100
TZOFFSETTO:+0200
TZNAME:CEST
DTSTART:20240331T010000
END:DAYLIGHT
BEGIN:STANDARD
TZOFFSETFROM:+0200
TZOFFSETTO:+0100
TZNAME:CET
DTSTART:20241027T010000
END:STANDARD
BEGIN:DAYLIGHT
TZOFFSETFROM:+0100
TZOFFSETTO:+0200
TZNAME:CEST
DTSTART:20250330T010000
END:DAYLIGHT
BEGIN:STANDARD
TZOFFSETFROM:+0200
TZOFFSETTO:+0100
TZNAME:CET
DTSTART:20251026T010000
END:STANDARD
BEGIN:DAYLIGHT
TZOFFSETFROM:+0100
TZOFFSETTO:+0200
TZNAME:CEST
DTSTART:20260329T010000
END:DAYLIGHT
BEGIN:STANDARD
TZOFFSETFROM:+0200
TZOFFSETTO:+0100
TZNAME:CET
DTSTART:20261025T010000
END:STANDARD
END:VTIMEZONE
BEGIN:VEVENT
DTSTART;TZID=Europe/Berlin:20250707T190000
DTEND;TZID=Europe/Berlin:20250707T203000
DTSTAMP:20260421T131359
CREATED:20250610T220141Z
LAST-MODIFIED:20250623T134602Z
UID:3502-1751914800-1751920200@forum50plus-erbach.de
SUMMARY:Mein persönlicher CO²-Fußabdruck
DESCRIPTION:Vortrag und Mitmach-Aktion. Referent: Johannes Miller\,  Gemeinwohl-Ökonomie e.V. \n\n\n\nEine gemeinsame Veranstaltung von Forum 50+\, katholische und evangelische Kirchengemeinde. Unser gemeinsamer Beitrag zur Erbacher Umweltwoche. \n\n\n\n\n\n\n\nKlimawandel\, 1\,5 Grad Ziel\, Dekarbonisierung etc. ist in aller Munde! \n\n\n\nNutzen Sie die Chance den Worten Taten folgen zu lassen und lernen Sie Ihren persönlichen CO2-Fußabdruck kennen! Welchen Beitrag (im Positiven wie im Negativen) leiste ich tatsächlich? Wie setzt sich mein Fußabdruck zusammen und wo liegen die großen und kleinen „Stellschrauben“? \n\n\n\nSpielerisch und mit Freude gehen wir die relevanten Sektoren durch und lernen gleichzeitig Möglichkeiten kennen unseren Fußabdruck zu verkleinern. Überraschungen und neue Erkenntnisse sind garantiert! Es sind keinerlei Vorkenntnisse erforderlich und alle Fragen sind erlaubt. \n\n\n\nDie evangelische und katholische Kirchengemeinde haben zusammen mit dem Forum 50+ diesen Montagsgast als Beitrag zur Erbacher Umweltwoche eingeladen.  \n\n\n\nKommen Sie am 7. Juli 2025 um 19 Uhr in den Forum-Treff ( Jetzt mit zusätzlichen Tischen und Stühlen !)
URL:https://forum50plus-erbach.de/event/mein-persoenlicher-co%c2%b2-fussabdruck/
END:VEVENT
BEGIN:VEVENT
DTSTART;TZID=Europe/Berlin:20250725T000000
DTEND;TZID=Europe/Berlin:20250725T000000
DTSTAMP:20260421T131359
CREATED:20250605T143344Z
LAST-MODIFIED:20250605T143443Z
UID:3493-1753401600-1753401600@forum50plus-erbach.de
SUMMARY:Unterwegs - Vorschau 2. HJ
DESCRIPTION:Vorschau 2.Halbjahr 2025 \n\n\n\nFreitag 25.Juli \n\n\n\n                Bad Friedrichshall: Salzbergwerkführung \n\n\n\n                Heilbronn: Wissenschaftsmuseum Experimenta \n\n\n\nMittwoch 24.September \n\n\n\n                Hörbranz: Besichtigung Fein Brennerei Prinz \n\n\n\n                 Scheidegg Waldweg Skywalk \n\n\n\nMittwoch 22.Oktober \n\n\n\n                Straßburg: Stadtrundfahrt mit der Bimmelbahn \n\n\n\n                Nachmittags Besuch des Europaparlaments \n\n\n\nMittwoch 03.Dezember \n\n\n\n                Triberg     :       Vormittag Besuch Schwarzwaldmuseum \n\n\n\n                 Gengenbach  Nachmittag Besuch Weihnachtsmarkt
URL:https://forum50plus-erbach.de/event/unterwegs-vorschau-2-hj/
CATEGORIES:Forum unterwegs
END:VEVENT
BEGIN:VEVENT
DTSTART;TZID=Europe/Berlin:20250725T060000
DTEND;TZID=Europe/Berlin:20250725T180000
DTSTAMP:20260421T131359
CREATED:20250605T142803Z
LAST-MODIFIED:20250623T131451Z
UID:3489-1753423200-1753466400@forum50plus-erbach.de
SUMMARY:Forum unterwegs : Salzbergwerk und Experimenta
DESCRIPTION:Salzbergwerk Bad Friedrichshall Freitag 25.Juli 2025 \n\n\n\nNach 30 Sekunden Fahrt mit einem Förderkorb erleben wir in 180 Meter Tiefe die rund 200 Millionen Jahre alte\, faszinierende Welt des „ weißen Goldes“. An einst realen Salz-Abbaustätten werden uns inmitten der gewaltigen unterirdischen Kammern mit moderner Präsentation die vielfältige Geschichte des Salzes und die Entwicklung der Abbautechnik veranschaulicht. Spektakuläre Medien-und Laserinstallationen vermitteln Wissenswertes über Salz. Ebenso sehen wir eine der weltweit größten Bergbaumaschinen. Bitte beachten: Unter Tage beträgt die Temparatur ca 18°C.  Festes Schuhwerk ist empfehlenswert ! \n\n\n\nHeilbronn Experimenta                Ein Ort des Wissens und der Entdeckung \n\n\n\nIm Museum Experimenta\, Deutschlands größtem Science Center gibt es spannendes aus Wissenschaft und Technik sowie faszinierendes aus der Alltagswelt. 270 interaktive Stationen laden zum Entdecken\, Forschen und Experimentieren ein. Ein besonderes Erlebnis erwartet uns im Science Dome. Laser und Experimentalshows werden auf einer beindruckenden 360°-Kuppelscreen präsentiert. \n\n\n\n\n\n\n\n\n\n\nProgramm \n\n\n\n\n\n \n\n\n\n\n\n\n\n06:00 Uhr \n\n\n\n\n\nAbfahrt am Busbahnhof Erbach \n\n\n\n\n\n\n\n10:00 Uhr \n\n\n\n\n\nBesichtigung Salzbergwerk \n\n\n\n\n\n\n\n12.30 Uhr \n\n\n\n\n\nAbfahrt nach Heilbronn \n\n\n\n\n\n\n\n13:00 Uhr \n\n\n\n\n\nExperimenta – Besichtigung Museum;                                                                1. Gruppe Mittagessen im Restaurant \n\n\n\n\n\n\n\n14:00 Uhr \n\n\n\n\n\nBesuch Science Dome \n\n\n\n\n\n\n\n14:30 Uhr \n\n\n\n\n\nBesichtigung Museum                                                                                         2. Gruppe Mittagessen im Restaurant \n\n\n\n\n\n\n\n17:00 Uhr \n\n\n\n\n\nAbfahrt nach Erbach  \n\n\n\n\n\n\n                                                                                              \n\n\n\nDer Fahrpreis beträgt für Mitglieder € 50\,00 und für Nichtmitglieder € 60\,00                                         im Fahrpreis sind alle Eintritte enthalten. Der Preis wird im Bus erhoben. \n\n\n\nAnmeldung ab Donnerstag 10.Juli 16:00 Uhr im Forum Treff (Jahn Schule) ab 16:30 Uhr auch telefonisch 07305 1782651. Unser Treff ist von Montag – Donnerstag von 16:00 – 21:00 Uhr geöffnet. \n\n\n\nWir freuen uns auf Eure Anmeldung \n\n\n\nRainer Diebel
URL:https://forum50plus-erbach.de/event/forum-unterwegs-salzbergwerk-und-experimenta/
END:VEVENT
END:VCALENDAR