BEGIN:VCALENDAR
VERSION:2.0
PRODID:-//Forum50plus - ECPv6.15.20//NONSGML v1.0//EN
CALSCALE:GREGORIAN
METHOD:PUBLISH
X-ORIGINAL-URL:https://forum50plus-erbach.de
X-WR-CALDESC:Veranstaltungen für Forum50plus
REFRESH-INTERVAL;VALUE=DURATION:PT1H
X-Robots-Tag:noindex
X-PUBLISHED-TTL:PT1H
BEGIN:VTIMEZONE
TZID:Europe/Berlin
BEGIN:DAYLIGHT
TZOFFSETFROM:+0100
TZOFFSETTO:+0200
TZNAME:CEST
DTSTART:20250330T010000
END:DAYLIGHT
BEGIN:STANDARD
TZOFFSETFROM:+0200
TZOFFSETTO:+0100
TZNAME:CET
DTSTART:20251026T010000
END:STANDARD
BEGIN:DAYLIGHT
TZOFFSETFROM:+0100
TZOFFSETTO:+0200
TZNAME:CEST
DTSTART:20260329T010000
END:DAYLIGHT
BEGIN:STANDARD
TZOFFSETFROM:+0200
TZOFFSETTO:+0100
TZNAME:CET
DTSTART:20261025T010000
END:STANDARD
BEGIN:DAYLIGHT
TZOFFSETFROM:+0100
TZOFFSETTO:+0200
TZNAME:CEST
DTSTART:20270328T010000
END:DAYLIGHT
BEGIN:STANDARD
TZOFFSETFROM:+0200
TZOFFSETTO:+0100
TZNAME:CET
DTSTART:20271031T010000
END:STANDARD
END:VTIMEZONE
BEGIN:VEVENT
DTSTART;TZID=Europe/Berlin:20260401T073000
DTEND;TZID=Europe/Berlin:20260401T190000
DTSTAMP:20260419T145858
CREATED:20260201T230457Z
LAST-MODIFIED:20260201T233143Z
UID:3879-1775028600-1775070000@forum50plus-erbach.de
SUMMARY:Forum unterwegs: Ausfahrt Künzelsau
DESCRIPTION:Ausfahrt Künzelsau und Burg Guttenberg am Mittwoch 01.April 2026 \n\n\n\nMuseum Würth Künzelsau \n\n\n\n\n\n\n\nDas Ehepaar Christo waren zweifellos eines der bemerkenswertesten Künstlerpaare des 20. Jahrhunderts. Aus Anlass ihres 90. Geburtstages am 13.Juni 2025 präsentiert das Museum Würth einen Querschnitt durch 60 Jahre ihres Schaffens. Dank der sehr persönlichen Beziehung zwischen dem Sammler Reinhold Würth und dem Künstlerpaar sind rund 130 Originalwerke aus sechs Jahrzehnten im Bestand der Sammlung Würth. \n\n\n\nDie Deutsche Greifenwarte auf Burg Guttenberg   \n\n\n\n\n\n\n\nFaszinierende Welt: Hier leben rund 60 Großgreifvögel und Eulen. Wir erleben riesige Vögel mit über zwei Metern Spannweite\, wie Adler\, Geier\, und Uhus. Im freien Flug schweben sie hoch über der Burg Guttenberg\, über das Neckartal und über unsere Köpfe hinweg. \n\n\n\nProgramm: \n\n\n\n07:30  Uhr Abfahrt Busbahnhof Erbach \n\n\n\n11:00  Uhr Besuch Würth Museum Ausstellung: \n\n\n\n12:15  Uhr Abfahrt nach Haßmersheim zur Burg Guttenberg \n\n\n\n13:00  Uhr Mittagessen in der Burgschenke \n\n\n\n15:00  Uhr Flugvorführung der Greifvögel ca 1 Stunde \n\n\n\n16:00  Uhr nach der Vorführung Gelegenheit sich die Burg anzuschauen \n\n\n\n17:00  Uhr Rückfahrt nach Erbach \n\n\n\nDer Fahrpreis incl. aller Eintritte für Mitglieder € 40\,00 und für Nichtmitglieder € 50\,00                                      Der Fahrpreis wird im Bus kassiert.                                                             \n\n\n\n Anmeldung ab Donnerstag 12.März 2026 16:00 Uhr im Forum Treff ( Jahnschule )                und ab 16:30 Uhr telefonisch 07305 1782651.                                                                           Unser Treff ist von Montag bis Donnerstag von 16:00 – 21:00 Uhr geöffnet. \n\n\n\nWir freuen uns auf Eure Anmeldung \n\n\n\nRainer Diebel
URL:https://forum50plus-erbach.de/event/ausfahrt-kuenzelsau/
END:VEVENT
END:VCALENDAR