BEGIN:VCALENDAR
VERSION:2.0
PRODID:-//Forum50plus - ECPv6.15.20//NONSGML v1.0//EN
CALSCALE:GREGORIAN
METHOD:PUBLISH
X-ORIGINAL-URL:https://forum50plus-erbach.de
X-WR-CALDESC:Veranstaltungen für Forum50plus
REFRESH-INTERVAL;VALUE=DURATION:PT1H
X-Robots-Tag:noindex
X-PUBLISHED-TTL:PT1H
BEGIN:VTIMEZONE
TZID:Europe/Berlin
BEGIN:DAYLIGHT
TZOFFSETFROM:+0100
TZOFFSETTO:+0200
TZNAME:CEST
DTSTART:20250330T010000
END:DAYLIGHT
BEGIN:STANDARD
TZOFFSETFROM:+0200
TZOFFSETTO:+0100
TZNAME:CET
DTSTART:20251026T010000
END:STANDARD
BEGIN:DAYLIGHT
TZOFFSETFROM:+0100
TZOFFSETTO:+0200
TZNAME:CEST
DTSTART:20260329T010000
END:DAYLIGHT
BEGIN:STANDARD
TZOFFSETFROM:+0200
TZOFFSETTO:+0100
TZNAME:CET
DTSTART:20261025T010000
END:STANDARD
BEGIN:DAYLIGHT
TZOFFSETFROM:+0100
TZOFFSETTO:+0200
TZNAME:CEST
DTSTART:20270328T010000
END:DAYLIGHT
BEGIN:STANDARD
TZOFFSETFROM:+0200
TZOFFSETTO:+0100
TZNAME:CET
DTSTART:20271031T010000
END:STANDARD
END:VTIMEZONE
BEGIN:VEVENT
DTSTART;TZID=Europe/Berlin:20260306T153000
DTEND;TZID=Europe/Berlin:20260306T180000
DTSTAMP:20260421T114339
CREATED:20260201T225949Z
LAST-MODIFIED:20260223T110108Z
UID:3875-1772811000-1772820000@forum50plus-erbach.de
SUMMARY:Freies Singen
DESCRIPTION:Mit Barbara und Wolfgang Jagodzinski \n\n\n\n\n\n\n\n \n\n\n\nZum nächsten freien Singen in diesem Jahr begleiten uns wieder Barbara und Wolfgang Jagodzinski auf ihre unnachahmliche Weise. Wir werden wieder einen schönen\, unterhaltsamen Nachmittag erleben.Alle die gerne bekannte Lieder in fröhlicher Gemeinschaft singen\, sind herzlich willkommen. \n\n\n\nEs lohnt sich immer unser freies Singen zu besuchen\, es wird ja nicht nur gesungen\, sondern mindestens genau soviel geplaudert. Euch erwartet auf jeden Fall ein geselliger Nachmittag. \n\n\n\nWir freuen uns auf Euren Besuch
URL:https://forum50plus-erbach.de/event/freies-singen-17/
CATEGORIES:freies Singen
ATTACH;FMTTYPE=image/jpeg:https://forum50plus-erbach.de/wp-content/uploads/2026/02/Barbara-Wolfgang-J.jpg
END:VEVENT
END:VCALENDAR