BEGIN:VCALENDAR
VERSION:2.0
PRODID:-//Forum50plus - ECPv6.15.20//NONSGML v1.0//EN
CALSCALE:GREGORIAN
METHOD:PUBLISH
X-ORIGINAL-URL:https://forum50plus-erbach.de
X-WR-CALDESC:Veranstaltungen für Forum50plus
REFRESH-INTERVAL;VALUE=DURATION:PT1H
X-Robots-Tag:noindex
X-PUBLISHED-TTL:PT1H
BEGIN:VTIMEZONE
TZID:Europe/Berlin
BEGIN:DAYLIGHT
TZOFFSETFROM:+0100
TZOFFSETTO:+0200
TZNAME:CEST
DTSTART:20240331T010000
END:DAYLIGHT
BEGIN:STANDARD
TZOFFSETFROM:+0200
TZOFFSETTO:+0100
TZNAME:CET
DTSTART:20241027T010000
END:STANDARD
BEGIN:DAYLIGHT
TZOFFSETFROM:+0100
TZOFFSETTO:+0200
TZNAME:CEST
DTSTART:20250330T010000
END:DAYLIGHT
BEGIN:STANDARD
TZOFFSETFROM:+0200
TZOFFSETTO:+0100
TZNAME:CET
DTSTART:20251026T010000
END:STANDARD
BEGIN:DAYLIGHT
TZOFFSETFROM:+0100
TZOFFSETTO:+0200
TZNAME:CEST
DTSTART:20260329T010000
END:DAYLIGHT
BEGIN:STANDARD
TZOFFSETFROM:+0200
TZOFFSETTO:+0100
TZNAME:CET
DTSTART:20261025T010000
END:STANDARD
END:VTIMEZONE
BEGIN:VEVENT
DTSTART;TZID=Europe/Berlin:20251208T190000
DTEND;TZID=Europe/Berlin:20251208T203000
DTSTAMP:20260419T165641
CREATED:20251117T134619Z
LAST-MODIFIED:20251118T104135Z
UID:3738-1765220400-1765225800@forum50plus-erbach.de
SUMMARY:Werner Bollinger: Von Santa Cruz (Bolivien) nach Cusco (Peru)
DESCRIPTION:Eine Reise in 4 Wochen über das Altiplano\, das Hochland Boliviens und Perus zwischen 3000 und 5000 müM.Vorbei an Vulkanen\, Lagunen\, Salzseen und historischen Stätten. Immer begleitet von Alpakas\, Lamas\, Vikunjas und Flamingos. \n\n\n\n\n\n\n\nUnser Montagsgast im Dezember ist vermutlich das am weitesten gereiste Vereinsmitglied. \n\n\n\nViele kennen ihn vom Reparaturcafé und von seinem Bildervortrag über Oman.  \n\n\n\nBesuchen sie auch diesmal seinen faszinierenden Vortrag am 8.12.25 um 19:00 Uhr
URL:https://forum50plus-erbach.de/event/werner-bollinger-von-santa-cruz-bolivien-nach-cusco-peru/
CATEGORIES:Montagsgast
END:VEVENT
END:VCALENDAR