BEGIN:VCALENDAR
VERSION:2.0
PRODID:-//Forum50plus - ECPv6.15.20//NONSGML v1.0//EN
CALSCALE:GREGORIAN
METHOD:PUBLISH
X-ORIGINAL-URL:https://forum50plus-erbach.de
X-WR-CALDESC:Veranstaltungen für Forum50plus
REFRESH-INTERVAL;VALUE=DURATION:PT1H
X-Robots-Tag:noindex
X-PUBLISHED-TTL:PT1H
BEGIN:VTIMEZONE
TZID:Europe/Berlin
BEGIN:DAYLIGHT
TZOFFSETFROM:+0100
TZOFFSETTO:+0200
TZNAME:CEST
DTSTART:20240331T010000
END:DAYLIGHT
BEGIN:STANDARD
TZOFFSETFROM:+0200
TZOFFSETTO:+0100
TZNAME:CET
DTSTART:20241027T010000
END:STANDARD
BEGIN:DAYLIGHT
TZOFFSETFROM:+0100
TZOFFSETTO:+0200
TZNAME:CEST
DTSTART:20250330T010000
END:DAYLIGHT
BEGIN:STANDARD
TZOFFSETFROM:+0200
TZOFFSETTO:+0100
TZNAME:CET
DTSTART:20251026T010000
END:STANDARD
BEGIN:DAYLIGHT
TZOFFSETFROM:+0100
TZOFFSETTO:+0200
TZNAME:CEST
DTSTART:20260329T010000
END:DAYLIGHT
BEGIN:STANDARD
TZOFFSETFROM:+0200
TZOFFSETTO:+0100
TZNAME:CET
DTSTART:20261025T010000
END:STANDARD
END:VTIMEZONE
BEGIN:VEVENT
DTSTART;TZID=Europe/Berlin:20251205T150000
DTEND;TZID=Europe/Berlin:20251205T180000
DTSTAMP:20260419T165716
CREATED:20250830T095200Z
LAST-MODIFIED:20251201T113539Z
UID:3601-1764946800-1764957600@forum50plus-erbach.de
SUMMARY:Adventsfeier mit dem Musikduo Junginger
DESCRIPTION:Erstmals gibt es in unserem Verein eine Adventsfeier. Im Mittelpunkt stehen dabei unsere Leib- und Magenband: Das Musikduo Junginger. Sie werden uns mit besinnlichen undheiteren Weisen unterhalten\, natürlich auch zum Mitsingen. Das Thekenteam kümmert sich um Kaffee und Kuchen\, gegen später steht auch etwas Herzhaftes bereit.Lassen Sie sich unterhalten und das Herz erfreuen am 5.12. ab 15 Uhr.
URL:https://forum50plus-erbach.de/event/weihnachtssingen-mit-dem-duo-junginger/
END:VEVENT
END:VCALENDAR