BEGIN:VCALENDAR
VERSION:2.0
PRODID:-//Forum50plus - ECPv6.15.20//NONSGML v1.0//EN
CALSCALE:GREGORIAN
METHOD:PUBLISH
X-WR-CALNAME:Forum50plus
X-ORIGINAL-URL:https://forum50plus-erbach.de
X-WR-CALDESC:Veranstaltungen für Forum50plus
REFRESH-INTERVAL;VALUE=DURATION:PT1H
X-Robots-Tag:noindex
X-PUBLISHED-TTL:PT1H
BEGIN:VTIMEZONE
TZID:Europe/Berlin
BEGIN:DAYLIGHT
TZOFFSETFROM:+0100
TZOFFSETTO:+0200
TZNAME:CEST
DTSTART:20240331T010000
END:DAYLIGHT
BEGIN:STANDARD
TZOFFSETFROM:+0200
TZOFFSETTO:+0100
TZNAME:CET
DTSTART:20241027T010000
END:STANDARD
BEGIN:DAYLIGHT
TZOFFSETFROM:+0100
TZOFFSETTO:+0200
TZNAME:CEST
DTSTART:20250330T010000
END:DAYLIGHT
BEGIN:STANDARD
TZOFFSETFROM:+0200
TZOFFSETTO:+0100
TZNAME:CET
DTSTART:20251026T010000
END:STANDARD
BEGIN:DAYLIGHT
TZOFFSETFROM:+0100
TZOFFSETTO:+0200
TZNAME:CEST
DTSTART:20260329T010000
END:DAYLIGHT
BEGIN:STANDARD
TZOFFSETFROM:+0200
TZOFFSETTO:+0100
TZNAME:CET
DTSTART:20261025T010000
END:STANDARD
END:VTIMEZONE
BEGIN:VEVENT
DTSTART;TZID=Europe/Berlin:20251124T190000
DTEND;TZID=Europe/Berlin:20251124T203000
DTSTAMP:20260419T183647
CREATED:20251026T204106Z
LAST-MODIFIED:20251110T101240Z
UID:3701-1764010800-1764016200@forum50plus-erbach.de
SUMMARY:Arbeitskreis Bolivien e.V. - 24. Nov. 19 Uhr
DESCRIPTION:Als Montagsgast stellt der Arbeitskreis Bolivien e.V. seine Arbeit und Projekte in und um Camargo in Bolivien vor. Seit über 40 Jahren unterstützen wir die Clinica San Clemente\, ein Waisenhaus\, ein Internat\, finanzieren Büchereien in Camposchulen und die sehr wichtigen Trinkwasserprojekte in der Umgebung von Camargo. Wir ermöglichen die Unterstützung armer Familien mit Kleidung\, Lebensmitteln und die Deckung von medizinischen Operationen und Behandlungen. \n\n\n\n\n\n\n\nWir erzählen wie alles begann\, von kleinen Anfängen bis zu großen Anschaffungen\, unseren aktuellen Projekten und zeigen Bilder unseres letzten Besuchs in Camargo.  \n\n\n\nKommen Sie am Montag\, den 24. November um 19 Uhr ins Forum 50plus – wir freuen uns auf ein interessiertes Publikum und auf einen kurzweiligen Abend mit Ihnen!
URL:https://forum50plus-erbach.de/event/arbeitskreis-bolivien-e-v-24-nov-19-uhr/
CATEGORIES:Montagsgast
END:VEVENT
END:VCALENDAR