BEGIN:VCALENDAR
VERSION:2.0
PRODID:-//Forum50plus - ECPv6.15.20//NONSGML v1.0//EN
CALSCALE:GREGORIAN
METHOD:PUBLISH
X-WR-CALNAME:Forum50plus
X-ORIGINAL-URL:https://forum50plus-erbach.de
X-WR-CALDESC:Veranstaltungen für Forum50plus
REFRESH-INTERVAL;VALUE=DURATION:PT1H
X-Robots-Tag:noindex
X-PUBLISHED-TTL:PT1H
BEGIN:VTIMEZONE
TZID:Europe/Berlin
BEGIN:DAYLIGHT
TZOFFSETFROM:+0100
TZOFFSETTO:+0200
TZNAME:CEST
DTSTART:20240331T010000
END:DAYLIGHT
BEGIN:STANDARD
TZOFFSETFROM:+0200
TZOFFSETTO:+0100
TZNAME:CET
DTSTART:20241027T010000
END:STANDARD
BEGIN:DAYLIGHT
TZOFFSETFROM:+0100
TZOFFSETTO:+0200
TZNAME:CEST
DTSTART:20250330T010000
END:DAYLIGHT
BEGIN:STANDARD
TZOFFSETFROM:+0200
TZOFFSETTO:+0100
TZNAME:CET
DTSTART:20251026T010000
END:STANDARD
BEGIN:DAYLIGHT
TZOFFSETFROM:+0100
TZOFFSETTO:+0200
TZNAME:CEST
DTSTART:20260329T010000
END:DAYLIGHT
BEGIN:STANDARD
TZOFFSETFROM:+0200
TZOFFSETTO:+0100
TZNAME:CET
DTSTART:20261025T010000
END:STANDARD
END:VTIMEZONE
BEGIN:VEVENT
DTSTART;TZID=Europe/Berlin:20251103T190000
DTEND;TZID=Europe/Berlin:20251103T203000
DTSTAMP:20260419T182921
CREATED:20251005T170747Z
LAST-MODIFIED:20251019T174320Z
UID:3660-1762196400-1762201800@forum50plus-erbach.de
SUMMARY:Vorstellung des Erbacher Kalenders
DESCRIPTION:Es ist wieder so weit: der Heimat- und Kulturverein\, genauer gesagt seine Archivgruppe hat viele Bilder gesichtet\, die Künstler von Erbach gemalt haben. \n\n\n\nDaraus entstand der neue Kalender für 2026\, der an diesem Abend vorgestellt wird. Natürlich kann er auch gleich erworben werden. \n\n\n\nDamit nicht nur geredet wird\, lockern Barbara und  Wolfgang Jagodzinski den Abend mit ihren musikalischen Beiträgen auf. Hunger und Durst? Unser bewährtes Thekenteam freut sich darauf\, euch zu bewirten. \n\n\n\nAlso: direkt nach den Herbstferien\, Montag\, 3.11.25 um 19 Uhr im Forum-Treff!
URL:https://forum50plus-erbach.de/event/vorstellung-des-erbacher-kalenders/
CATEGORIES:Montagsgast
ATTACH;FMTTYPE=image/jpeg:https://forum50plus-erbach.de/wp-content/uploads/2025/10/Kalender-2026-Titelseite1.jpg
END:VEVENT
END:VCALENDAR