BEGIN:VCALENDAR
VERSION:2.0
PRODID:-//Forum50plus - ECPv6.15.20//NONSGML v1.0//EN
CALSCALE:GREGORIAN
METHOD:PUBLISH
X-ORIGINAL-URL:https://forum50plus-erbach.de
X-WR-CALDESC:Veranstaltungen für Forum50plus
REFRESH-INTERVAL;VALUE=DURATION:PT1H
X-Robots-Tag:noindex
X-PUBLISHED-TTL:PT1H
BEGIN:VTIMEZONE
TZID:Europe/Berlin
BEGIN:DAYLIGHT
TZOFFSETFROM:+0100
TZOFFSETTO:+0200
TZNAME:CEST
DTSTART:20240331T010000
END:DAYLIGHT
BEGIN:STANDARD
TZOFFSETFROM:+0200
TZOFFSETTO:+0100
TZNAME:CET
DTSTART:20241027T010000
END:STANDARD
BEGIN:DAYLIGHT
TZOFFSETFROM:+0100
TZOFFSETTO:+0200
TZNAME:CEST
DTSTART:20250330T010000
END:DAYLIGHT
BEGIN:STANDARD
TZOFFSETFROM:+0200
TZOFFSETTO:+0100
TZNAME:CET
DTSTART:20251026T010000
END:STANDARD
BEGIN:DAYLIGHT
TZOFFSETFROM:+0100
TZOFFSETTO:+0200
TZNAME:CEST
DTSTART:20260329T010000
END:DAYLIGHT
BEGIN:STANDARD
TZOFFSETFROM:+0200
TZOFFSETTO:+0100
TZNAME:CET
DTSTART:20261025T010000
END:STANDARD
END:VTIMEZONE
BEGIN:VEVENT
DTSTART;TZID=Europe/Berlin:20250926T153000
DTEND;TZID=Europe/Berlin:20250926T180000
DTSTAMP:20260419T211544
CREATED:20250922T220525Z
LAST-MODIFIED:20250922T220526Z
UID:3632-1758900600-1758909600@forum50plus-erbach.de
SUMMARY:Freies Singen im Forum-Treff (Jahnschule)
DESCRIPTION:Freitag\, 26. September 15:30 Uhr                                       \n\n\n\nBarbara und Wolfgang Jagodzinski begleiten uns zum gemeinsamen Singen. Mit ihnen werden wir wieder einen schönen unterhaltsamen Nachmittag erleben. Alle die gerne bekannte Lieder in fröhlicher Gemeinschaft singen\, sind herzlich willkommen. Wir freuen uns auf Euren Besuch!
URL:https://forum50plus-erbach.de/event/freies-singen-im-forum-treff-jahnschule/
END:VEVENT
END:VCALENDAR