BEGIN:VCALENDAR
VERSION:2.0
PRODID:-//Forum50plus - ECPv6.15.20//NONSGML v1.0//EN
CALSCALE:GREGORIAN
METHOD:PUBLISH
X-WR-CALNAME:Forum50plus
X-ORIGINAL-URL:https://forum50plus-erbach.de
X-WR-CALDESC:Veranstaltungen für Forum50plus
REFRESH-INTERVAL;VALUE=DURATION:PT1H
X-Robots-Tag:noindex
X-PUBLISHED-TTL:PT1H
BEGIN:VTIMEZONE
TZID:Europe/Berlin
BEGIN:DAYLIGHT
TZOFFSETFROM:+0100
TZOFFSETTO:+0200
TZNAME:CEST
DTSTART:20240331T010000
END:DAYLIGHT
BEGIN:STANDARD
TZOFFSETFROM:+0200
TZOFFSETTO:+0100
TZNAME:CET
DTSTART:20241027T010000
END:STANDARD
BEGIN:DAYLIGHT
TZOFFSETFROM:+0100
TZOFFSETTO:+0200
TZNAME:CEST
DTSTART:20250330T010000
END:DAYLIGHT
BEGIN:STANDARD
TZOFFSETFROM:+0200
TZOFFSETTO:+0100
TZNAME:CET
DTSTART:20251026T010000
END:STANDARD
BEGIN:DAYLIGHT
TZOFFSETFROM:+0100
TZOFFSETTO:+0200
TZNAME:CEST
DTSTART:20260329T010000
END:DAYLIGHT
BEGIN:STANDARD
TZOFFSETFROM:+0200
TZOFFSETTO:+0100
TZNAME:CET
DTSTART:20261025T010000
END:STANDARD
END:VTIMEZONE
BEGIN:VEVENT
DTSTART;TZID=Europe/Berlin:20250905T153000
DTEND;TZID=Europe/Berlin:20250905T173000
DTSTAMP:20260419T211247
CREATED:20250826T091827Z
LAST-MODIFIED:20250826T092040Z
UID:3564-1757086200-1757093400@forum50plus-erbach.de
SUMMARY:Freies Singen
DESCRIPTION:Freitag\, 05. September 15:30 Uhr                                   im Forum Treff (Jahnschule) \n\n\n\nObwohl noch Ferien sind wollen wir am 5.September wieder in das 2.Halbjahr starten. Alle die gerne bekannte Lieder in fröhlicher Gemeinschaft singen\, sind herzlich willkommen. \n\n\n\nMichael wird uns auf dem Akkordeon begleiten und uns in Stimmung bringen. Wir freuen uns auf euren Besuch.                    
URL:https://forum50plus-erbach.de/event/freies-singen-16/
ATTACH;FMTTYPE=image/jpeg:https://forum50plus-erbach.de/wp-content/uploads/2025/08/Michael-Denzle.jpg
END:VEVENT
END:VCALENDAR