BEGIN:VCALENDAR
VERSION:2.0
PRODID:-//Forum50plus - ECPv6.15.20//NONSGML v1.0//EN
CALSCALE:GREGORIAN
METHOD:PUBLISH
X-ORIGINAL-URL:https://forum50plus-erbach.de
X-WR-CALDESC:Veranstaltungen für Forum50plus
REFRESH-INTERVAL;VALUE=DURATION:PT1H
X-Robots-Tag:noindex
X-PUBLISHED-TTL:PT1H
BEGIN:VTIMEZONE
TZID:Europe/Berlin
BEGIN:DAYLIGHT
TZOFFSETFROM:+0100
TZOFFSETTO:+0200
TZNAME:CEST
DTSTART:20240331T010000
END:DAYLIGHT
BEGIN:STANDARD
TZOFFSETFROM:+0200
TZOFFSETTO:+0100
TZNAME:CET
DTSTART:20241027T010000
END:STANDARD
BEGIN:DAYLIGHT
TZOFFSETFROM:+0100
TZOFFSETTO:+0200
TZNAME:CEST
DTSTART:20250330T010000
END:DAYLIGHT
BEGIN:STANDARD
TZOFFSETFROM:+0200
TZOFFSETTO:+0100
TZNAME:CET
DTSTART:20251026T010000
END:STANDARD
BEGIN:DAYLIGHT
TZOFFSETFROM:+0100
TZOFFSETTO:+0200
TZNAME:CEST
DTSTART:20260329T010000
END:DAYLIGHT
BEGIN:STANDARD
TZOFFSETFROM:+0200
TZOFFSETTO:+0100
TZNAME:CET
DTSTART:20261025T010000
END:STANDARD
END:VTIMEZONE
BEGIN:VEVENT
DTSTART;TZID=Europe/Berlin:20250707T190000
DTEND;TZID=Europe/Berlin:20250707T203000
DTSTAMP:20260421T143857
CREATED:20250610T220141Z
LAST-MODIFIED:20250623T134602Z
UID:3502-1751914800-1751920200@forum50plus-erbach.de
SUMMARY:Mein persönlicher CO²-Fußabdruck
DESCRIPTION:Vortrag und Mitmach-Aktion. Referent: Johannes Miller\,  Gemeinwohl-Ökonomie e.V. \n\n\n\nEine gemeinsame Veranstaltung von Forum 50+\, katholische und evangelische Kirchengemeinde. Unser gemeinsamer Beitrag zur Erbacher Umweltwoche. \n\n\n\n\n\n\n\nKlimawandel\, 1\,5 Grad Ziel\, Dekarbonisierung etc. ist in aller Munde! \n\n\n\nNutzen Sie die Chance den Worten Taten folgen zu lassen und lernen Sie Ihren persönlichen CO2-Fußabdruck kennen! Welchen Beitrag (im Positiven wie im Negativen) leiste ich tatsächlich? Wie setzt sich mein Fußabdruck zusammen und wo liegen die großen und kleinen „Stellschrauben“? \n\n\n\nSpielerisch und mit Freude gehen wir die relevanten Sektoren durch und lernen gleichzeitig Möglichkeiten kennen unseren Fußabdruck zu verkleinern. Überraschungen und neue Erkenntnisse sind garantiert! Es sind keinerlei Vorkenntnisse erforderlich und alle Fragen sind erlaubt. \n\n\n\nDie evangelische und katholische Kirchengemeinde haben zusammen mit dem Forum 50+ diesen Montagsgast als Beitrag zur Erbacher Umweltwoche eingeladen.  \n\n\n\nKommen Sie am 7. Juli 2025 um 19 Uhr in den Forum-Treff ( Jetzt mit zusätzlichen Tischen und Stühlen !)
URL:https://forum50plus-erbach.de/event/mein-persoenlicher-co%c2%b2-fussabdruck/
END:VEVENT
END:VCALENDAR