BEGIN:VCALENDAR
VERSION:2.0
PRODID:-//Forum50plus - ECPv6.15.20//NONSGML v1.0//EN
CALSCALE:GREGORIAN
METHOD:PUBLISH
X-WR-CALNAME:Forum50plus
X-ORIGINAL-URL:https://forum50plus-erbach.de
X-WR-CALDESC:Veranstaltungen für Forum50plus
REFRESH-INTERVAL;VALUE=DURATION:PT1H
X-Robots-Tag:noindex
X-PUBLISHED-TTL:PT1H
BEGIN:VTIMEZONE
TZID:Europe/Berlin
BEGIN:DAYLIGHT
TZOFFSETFROM:+0100
TZOFFSETTO:+0200
TZNAME:CEST
DTSTART:20240331T010000
END:DAYLIGHT
BEGIN:STANDARD
TZOFFSETFROM:+0200
TZOFFSETTO:+0100
TZNAME:CET
DTSTART:20241027T010000
END:STANDARD
BEGIN:DAYLIGHT
TZOFFSETFROM:+0100
TZOFFSETTO:+0200
TZNAME:CEST
DTSTART:20250330T010000
END:DAYLIGHT
BEGIN:STANDARD
TZOFFSETFROM:+0200
TZOFFSETTO:+0100
TZNAME:CET
DTSTART:20251026T010000
END:STANDARD
BEGIN:DAYLIGHT
TZOFFSETFROM:+0100
TZOFFSETTO:+0200
TZNAME:CEST
DTSTART:20260329T010000
END:DAYLIGHT
BEGIN:STANDARD
TZOFFSETFROM:+0200
TZOFFSETTO:+0100
TZNAME:CET
DTSTART:20261025T010000
END:STANDARD
END:VTIMEZONE
BEGIN:VEVENT
DTSTART;TZID=Europe/Berlin:20250606T153000
DTEND;TZID=Europe/Berlin:20250606T173000
DTSTAMP:20260421T161515
CREATED:20250525T212128Z
LAST-MODIFIED:20250601T214632Z
UID:3474-1749223800-1749231000@forum50plus-erbach.de
SUMMARY:Freies Singen
DESCRIPTION:Wir treffen uns wieder in fröhlicher Runde zu unserem Freitagssingen. Diesmal begleiten uns Barbara und Wolfgang Jagodzinski. Wir freuen uns schon auf einen unterhaltsamen Nachmittag und über Euren Besuch. Macht Euch ein paar schöne Stunden in geselliger Runde. \n\n\n\nDie nächsten Termine: \n\n\n\nFreitag 04. Juli 15:30 Uhr mit Heinz Spörl \n\n\n\nSommerpause \n\n\n\nFreitag 05. September 15:30 Uhr mit Michael Denzle
URL:https://forum50plus-erbach.de/event/freies-singen-15/
CATEGORIES:freies Singen
END:VEVENT
END:VCALENDAR