BEGIN:VCALENDAR
VERSION:2.0
PRODID:-//Forum50plus - ECPv6.15.20//NONSGML v1.0//EN
CALSCALE:GREGORIAN
METHOD:PUBLISH
X-ORIGINAL-URL:https://forum50plus-erbach.de
X-WR-CALDESC:Veranstaltungen für Forum50plus
REFRESH-INTERVAL;VALUE=DURATION:PT1H
X-Robots-Tag:noindex
X-PUBLISHED-TTL:PT1H
BEGIN:VTIMEZONE
TZID:Europe/Berlin
BEGIN:DAYLIGHT
TZOFFSETFROM:+0100
TZOFFSETTO:+0200
TZNAME:CEST
DTSTART:20240331T010000
END:DAYLIGHT
BEGIN:STANDARD
TZOFFSETFROM:+0200
TZOFFSETTO:+0100
TZNAME:CET
DTSTART:20241027T010000
END:STANDARD
BEGIN:DAYLIGHT
TZOFFSETFROM:+0100
TZOFFSETTO:+0200
TZNAME:CEST
DTSTART:20250330T010000
END:DAYLIGHT
BEGIN:STANDARD
TZOFFSETFROM:+0200
TZOFFSETTO:+0100
TZNAME:CET
DTSTART:20251026T010000
END:STANDARD
BEGIN:DAYLIGHT
TZOFFSETFROM:+0100
TZOFFSETTO:+0200
TZNAME:CEST
DTSTART:20260329T010000
END:DAYLIGHT
BEGIN:STANDARD
TZOFFSETFROM:+0200
TZOFFSETTO:+0100
TZNAME:CET
DTSTART:20261025T010000
END:STANDARD
END:VTIMEZONE
BEGIN:VEVENT
DTSTART;TZID=Europe/Berlin:20250605T130000
DTEND;TZID=Europe/Berlin:20250605T173000
DTSTAMP:20260421T161827
CREATED:20250525T213125Z
LAST-MODIFIED:20250525T213126Z
UID:3478-1749128400-1749144600@forum50plus-erbach.de
SUMMARY:Genussradler - nächste Tour
DESCRIPTION:Liebe Mitradlerinnen\, liebe Mitradler\, \n\n\n\nleider wurde es mit unserer zuletzt geplanten Fahrt nach Rottenacker wegen des kalten Wetters nichts. Vier eiserne Mitradler fanden sich trotzdem am Stadion ein und wir fuhren dann eine kleinere 30 km-Runde über Ersingen ins Seeberger-Cafe bei sehr starkem\, kalten Gegenwind. \n\n\n\nJetzt habe ich die Tour nach Rottenacker zur Fischerhütte neu eingeplant und zwar für Donnerstag\, den 5. Juni\, Treffpunkt um 13 Uhr am Stadion. Dellmensinger Mitradler*innen können am Radweg auf Höhe Baggersee Ersingen in die Tour einsteigen\, dort sind wir gegen 13.15 Uhr. Hoffen wir diesmal auf schönes Radlerwetter für diese immerhin ca. 55 km lange Fahrt. \n\n\n\nIch freue mich schon auf diese Tour mit euch und hoffe\, dass uns diesmal Petrus nicht im Stich lässt. Fragen wie immer: 8283! \n\n\n\nLothar Vorwieger
URL:https://forum50plus-erbach.de/event/genussradler-naechste-tour/
END:VEVENT
END:VCALENDAR