BEGIN:VCALENDAR
VERSION:2.0
PRODID:-//Forum50plus - ECPv6.15.20//NONSGML v1.0//EN
CALSCALE:GREGORIAN
METHOD:PUBLISH
X-ORIGINAL-URL:https://forum50plus-erbach.de
X-WR-CALDESC:Veranstaltungen für Forum50plus
REFRESH-INTERVAL;VALUE=DURATION:PT1H
X-Robots-Tag:noindex
X-PUBLISHED-TTL:PT1H
BEGIN:VTIMEZONE
TZID:Europe/Berlin
BEGIN:DAYLIGHT
TZOFFSETFROM:+0100
TZOFFSETTO:+0200
TZNAME:CEST
DTSTART:20240331T010000
END:DAYLIGHT
BEGIN:STANDARD
TZOFFSETFROM:+0200
TZOFFSETTO:+0100
TZNAME:CET
DTSTART:20241027T010000
END:STANDARD
BEGIN:DAYLIGHT
TZOFFSETFROM:+0100
TZOFFSETTO:+0200
TZNAME:CEST
DTSTART:20250330T010000
END:DAYLIGHT
BEGIN:STANDARD
TZOFFSETFROM:+0200
TZOFFSETTO:+0100
TZNAME:CET
DTSTART:20251026T010000
END:STANDARD
BEGIN:DAYLIGHT
TZOFFSETFROM:+0100
TZOFFSETTO:+0200
TZNAME:CEST
DTSTART:20260329T010000
END:DAYLIGHT
BEGIN:STANDARD
TZOFFSETFROM:+0200
TZOFFSETTO:+0100
TZNAME:CET
DTSTART:20261025T010000
END:STANDARD
END:VTIMEZONE
BEGIN:VEVENT
DTSTART;TZID=Europe/Berlin:20250426T180000
DTEND;TZID=Europe/Berlin:20250426T193000
DTSTAMP:20260423T144711
CREATED:20250122T110254Z
LAST-MODIFIED:20250421T190353Z
UID:3334-1745690400-1745695800@forum50plus-erbach.de
SUMMARY:Jahresmitgliederversammlung
DESCRIPTION:Ort: Silchersaal \n\n\n\nLiebe Mitglieder! \n\n\n\nAch wieder so eine langweilige Versammlung – muss das denn sein ? Ja! Ja! Ja! \n\n\n\nJa\, weil es schlicht die Vereinssatzung verlangt. \n\n\n\nJa\, weil man an diesem Abend erfährt\, was in unserem Verein im vergangenen Jahr alles geschehen ist und was geplant wird. \n\n\n\nJa\, weil wir nicht ein Dienstleistungsunternehmen sind\, bei dem man für einen günstigen Preis einiges für die Freizeitgestaltung geboten bekommt. Sondern alle unsere Aktivitäten\, angefangen von der Bewirtung über die zahlreichen Kurse bis hin zu unseren Ausflügen sind ehrenamtliche Aktivitäten von Mitgliedern für Mitglieder. \n\n\n\nUnd an diesem Abend dokumentiert man mit seiner interessierten Anwesenheit seine Verbundenheit mit diesem Projekt\, das\, man muss es in aller Bescheidenheit sagen\, ein Segen für Erbach und seine (älteren) Bewohner ist. Ich finde\, das sind genug Gründe\, um am Samstag zahlreich zu erscheinen. \n\n\n\nHermann Schmidt\, Schriftführer
URL:https://forum50plus-erbach.de/event/jahresmitgliederversammlung/
END:VEVENT
END:VCALENDAR