BEGIN:VCALENDAR
VERSION:2.0
PRODID:-//Forum50plus - ECPv6.15.20//NONSGML v1.0//EN
CALSCALE:GREGORIAN
METHOD:PUBLISH
X-WR-CALNAME:Forum50plus
X-ORIGINAL-URL:https://forum50plus-erbach.de
X-WR-CALDESC:Veranstaltungen für Forum50plus
REFRESH-INTERVAL;VALUE=DURATION:PT1H
X-Robots-Tag:noindex
X-PUBLISHED-TTL:PT1H
BEGIN:VTIMEZONE
TZID:Europe/Berlin
BEGIN:DAYLIGHT
TZOFFSETFROM:+0100
TZOFFSETTO:+0200
TZNAME:CEST
DTSTART:20240331T010000
END:DAYLIGHT
BEGIN:STANDARD
TZOFFSETFROM:+0200
TZOFFSETTO:+0100
TZNAME:CET
DTSTART:20241027T010000
END:STANDARD
BEGIN:DAYLIGHT
TZOFFSETFROM:+0100
TZOFFSETTO:+0200
TZNAME:CEST
DTSTART:20250330T010000
END:DAYLIGHT
BEGIN:STANDARD
TZOFFSETFROM:+0200
TZOFFSETTO:+0100
TZNAME:CET
DTSTART:20251026T010000
END:STANDARD
BEGIN:DAYLIGHT
TZOFFSETFROM:+0100
TZOFFSETTO:+0200
TZNAME:CEST
DTSTART:20260329T010000
END:DAYLIGHT
BEGIN:STANDARD
TZOFFSETFROM:+0200
TZOFFSETTO:+0100
TZNAME:CET
DTSTART:20261025T010000
END:STANDARD
END:VTIMEZONE
BEGIN:VEVENT
DTSTART;TZID=Europe/Berlin:20250407T190000
DTEND;TZID=Europe/Berlin:20250407T203000
DTSTAMP:20260423T144445
CREATED:20250324T120019Z
LAST-MODIFIED:20250324T135751Z
UID:3416-1744052400-1744057800@forum50plus-erbach.de
SUMMARY:Gelebte Zivilcourage
DESCRIPTION:Ein wichtiger Teil unserer Demokratie und Ihre Grenzen \n\n\n\nEin Faustschlag ins Gesicht veränderte das Leben von Dieter Lehmann\, weil er sich einmischte\, Zivilcourage zeigte und rüttelte die Bevölkerung damit auf. Der Referent\, dem dies passiert ist\, zeigt\, dass aus etwas Negativem viel Positives entstehen kann. Wie etwa der daraus entstandene Preis für Zivilcourage\, der nun jährlich gemeinsam verliehen wird von der Doppelstadt Ulm/ Neu-Ulm mit seinem Verein\, dem GenerationenTreff\, Doch braucht es nicht blinden Aktionismus\, sondern in solchen Grenzsituationen ein Handeln nach Regeln der Zivilcourage. \n\n\n\nDies muss wichtiger Teil unserer gelebten Demokratie sein\, zu der jeder persönlich beitragen kann.Wie alles anfing in 2021 und was inzwischen daraus wurde\, das wird Lehmann an diesem Abend berichten. \n\n\n\n\n\n\n\nReferent: Dieter Lehmann\, Jahrgang 1956\, Diplom-Sozioökonom und aktuell Rentner war viele Jahre in verantwortlichen Aufgaben tätig für die Stadtverwaltungen Ulm und Schwäbisch Gmünd. Heute ist er ehrenamtlicher Vorsitzender des JuFuN e.V.\, einem Vollsortimenter der Quartiersarbeit in Schwäbisch Gmünd und des GenerationenTreff Ulm/ Neu-Ulm e.V.\, der dem Forum 50+ ähnlich ist.
URL:https://forum50plus-erbach.de/event/gelebte-zivilcourage/
CATEGORIES:Montagsgast
ATTACH;FMTTYPE=image/jpeg:https://forum50plus-erbach.de/wp-content/uploads/2025/03/Dieter-Lehmann.jpg
END:VEVENT
END:VCALENDAR