BEGIN:VCALENDAR
VERSION:2.0
PRODID:-//Forum50plus - ECPv6.15.20//NONSGML v1.0//EN
CALSCALE:GREGORIAN
METHOD:PUBLISH
X-WR-CALNAME:Forum50plus
X-ORIGINAL-URL:https://forum50plus-erbach.de
X-WR-CALDESC:Veranstaltungen für Forum50plus
REFRESH-INTERVAL;VALUE=DURATION:PT1H
X-Robots-Tag:noindex
X-PUBLISHED-TTL:PT1H
BEGIN:VTIMEZONE
TZID:Europe/Berlin
BEGIN:DAYLIGHT
TZOFFSETFROM:+0100
TZOFFSETTO:+0200
TZNAME:CEST
DTSTART:20240331T010000
END:DAYLIGHT
BEGIN:STANDARD
TZOFFSETFROM:+0200
TZOFFSETTO:+0100
TZNAME:CET
DTSTART:20241027T010000
END:STANDARD
BEGIN:DAYLIGHT
TZOFFSETFROM:+0100
TZOFFSETTO:+0200
TZNAME:CEST
DTSTART:20250330T010000
END:DAYLIGHT
BEGIN:STANDARD
TZOFFSETFROM:+0200
TZOFFSETTO:+0100
TZNAME:CET
DTSTART:20251026T010000
END:STANDARD
BEGIN:DAYLIGHT
TZOFFSETFROM:+0100
TZOFFSETTO:+0200
TZNAME:CEST
DTSTART:20260329T010000
END:DAYLIGHT
BEGIN:STANDARD
TZOFFSETFROM:+0200
TZOFFSETTO:+0100
TZNAME:CET
DTSTART:20261025T010000
END:STANDARD
END:VTIMEZONE
BEGIN:VEVENT
DTSTART;TZID=Europe/Berlin:20250319T080000
DTEND;TZID=Europe/Berlin:20250319T190000
DTSTAMP:20260423T163109
CREATED:20250126T223515Z
LAST-MODIFIED:20250206T120547Z
UID:3342-1742371200-1742410800@forum50plus-erbach.de
SUMMARY:Ausfahrt nach Waldburg - Ravensburg 
DESCRIPTION:Schloss Waldburg – Museum Ravensburger am Mittwoch 19.März 2025 \n\n\n\nSchloss Waldburg – Drei Kaiser Burg \n\n\n\nDie Waldburg ist eine beeindruckende mittelalterliche Burg\, die auf einem Hügel in der Nähe von Ravensburg liegt. Sie gehört zu den bedeutendsten und am besten erhaltenen Höhenburgen Deutschlands. Im 12.Jahrhundert erbaut\, spielte sie eine zentrale Rolle in der Geschichte des heiligen römischen Reiches. Bei einer Führung bekommen wir Einblick in die historischen Räumlichkeiten.                                                                      \n\n\n\nDer Ausblick von der Burg bietet eine atemberaubende Sicht auf das Umland\, bei guter Wetterlage bis in die Alpen. Achtung für Ortskundige! Wir nehmen den flacheren Weg von Norden zur Burg\, nicht den steilen Anstieg vom Ort aus. \n\n\n\n\n\n\n\nNach dem Essen in den mittelalterlichen Mauern geht es weiter zu einer weiteren Sehenswürdigkeit in Ravensburg. \n\n\n\nIm Museum Ravensburger entdecken wir\, wie das Unternehmen seit den Anfängen 1883 zu dem geworden ist\, was man heute mit der Marke „Ravensburger“ verbindet. Hier bestaunen wir die frühen Spiele und Bücher\, begegnen den Ravensburger Klassikern\, erfahren wir wie ein Spiel entsteht oder ein Puzzle gemacht wird. \n\n\n\nProgramm: \n\n\n\n08:00 Uhr Abfahrt am Busbahnhof in Erbach \n\n\n\n10:00 Uhr Führung im Schloss Waldburg \n\n\n\n12:00 Uhr Essen im Schloss Waldburg \n\n\n\n14:00 Uhr Abfahrt nach Ravensburg \n\n\n\n15:00 Uhr Besuch im Museum Ravensburger\, anschließend Möglichkeit zum                                      \n\n\n\n                   Bummel in der Ravensburger Altstadt \n\n\n\n18:00 Uhr Rückfahrt nach Erbach \n\n\n\nDer Fahrpreis beträgt für Mitglieder € 40\,00 für Nichtmitglieder € 50\,00 der Fahrpreis wird im Bus erhoben. Im Fahrpreis sind alle Eintritte und die Führung in der Burg enthalten. \n\n\n\nAnmeldung ab Donnerstag 27.Februar 2025 16:00 Uhr im Forum Treff (Jahn Schule) ab 16:30 auch telefonisch 07305 1782651. Unser Treff ist von Montag – Donnerstag von 16:00 – 21:00 Uhr geöffnet. Wir freuen uns auf Ihre Anmeldung. \n\n\n\nRainer Diebel
URL:https://forum50plus-erbach.de/event/ausfahrt-nach-waldburg-ravensburg/
END:VEVENT
END:VCALENDAR