BEGIN:VCALENDAR
VERSION:2.0
PRODID:-//Forum50plus - ECPv6.15.20//NONSGML v1.0//EN
CALSCALE:GREGORIAN
METHOD:PUBLISH
X-WR-CALNAME:Forum50plus
X-ORIGINAL-URL:https://forum50plus-erbach.de
X-WR-CALDESC:Veranstaltungen für Forum50plus
REFRESH-INTERVAL;VALUE=DURATION:PT1H
X-Robots-Tag:noindex
X-PUBLISHED-TTL:PT1H
BEGIN:VTIMEZONE
TZID:Europe/Berlin
BEGIN:DAYLIGHT
TZOFFSETFROM:+0100
TZOFFSETTO:+0200
TZNAME:CEST
DTSTART:20240331T010000
END:DAYLIGHT
BEGIN:STANDARD
TZOFFSETFROM:+0200
TZOFFSETTO:+0100
TZNAME:CET
DTSTART:20241027T010000
END:STANDARD
BEGIN:DAYLIGHT
TZOFFSETFROM:+0100
TZOFFSETTO:+0200
TZNAME:CEST
DTSTART:20250330T010000
END:DAYLIGHT
BEGIN:STANDARD
TZOFFSETFROM:+0200
TZOFFSETTO:+0100
TZNAME:CET
DTSTART:20251026T010000
END:STANDARD
BEGIN:DAYLIGHT
TZOFFSETFROM:+0100
TZOFFSETTO:+0200
TZNAME:CEST
DTSTART:20260329T010000
END:DAYLIGHT
BEGIN:STANDARD
TZOFFSETFROM:+0200
TZOFFSETTO:+0100
TZNAME:CET
DTSTART:20261025T010000
END:STANDARD
END:VTIMEZONE
BEGIN:VEVENT
DTSTART;TZID=Europe/Berlin:20250317T190000
DTEND;TZID=Europe/Berlin:20250317T203000
DTSTAMP:20260423T161323
CREATED:20250219T154442Z
LAST-MODIFIED:20250221T141605Z
UID:3383-1742238000-1742243400@forum50plus-erbach.de
SUMMARY:Montagsgast Elke Eberhardt
DESCRIPTION:Vorbeugung von Stürzen \n\n\n\nStürze gehören zu den häufigsten und folgenschwersten Unfällen im Alter. Aber: da kann man vorbeugend eine Menge machen.Dipl. Biol. Elke Eberhardt gibt seit vielen Jahren Kurse als Link Moves Trainerin (Koordination und Gehirnfitness) und ist seit 2021Sturzprophylaxe Trainerin. Erfahren Sie an diesem Abend in Theorie und Praxis\, wie Sie die Gefahr von Stürzen deutlich verringern können.Am 17. März um 19 Uhr im Forum 50+
URL:https://forum50plus-erbach.de/event/montagsgast-elke-eberhardt/
END:VEVENT
END:VCALENDAR