BEGIN:VCALENDAR
VERSION:2.0
PRODID:-//Forum50plus - ECPv6.15.20//NONSGML v1.0//EN
CALSCALE:GREGORIAN
METHOD:PUBLISH
X-WR-CALNAME:Forum50plus
X-ORIGINAL-URL:https://forum50plus-erbach.de
X-WR-CALDESC:Veranstaltungen für Forum50plus
REFRESH-INTERVAL;VALUE=DURATION:PT1H
X-Robots-Tag:noindex
X-PUBLISHED-TTL:PT1H
BEGIN:VTIMEZONE
TZID:Europe/Berlin
BEGIN:DAYLIGHT
TZOFFSETFROM:+0100
TZOFFSETTO:+0200
TZNAME:CEST
DTSTART:20240331T010000
END:DAYLIGHT
BEGIN:STANDARD
TZOFFSETFROM:+0200
TZOFFSETTO:+0100
TZNAME:CET
DTSTART:20241027T010000
END:STANDARD
BEGIN:DAYLIGHT
TZOFFSETFROM:+0100
TZOFFSETTO:+0200
TZNAME:CEST
DTSTART:20250330T010000
END:DAYLIGHT
BEGIN:STANDARD
TZOFFSETFROM:+0200
TZOFFSETTO:+0100
TZNAME:CET
DTSTART:20251026T010000
END:STANDARD
BEGIN:DAYLIGHT
TZOFFSETFROM:+0100
TZOFFSETTO:+0200
TZNAME:CEST
DTSTART:20260329T010000
END:DAYLIGHT
BEGIN:STANDARD
TZOFFSETFROM:+0200
TZOFFSETTO:+0100
TZNAME:CET
DTSTART:20261025T010000
END:STANDARD
END:VTIMEZONE
BEGIN:VEVENT
DTSTART;TZID=Europe/Berlin:20250303T143000
DTEND;TZID=Europe/Berlin:20250303T233000
DTSTAMP:20260423T161330
CREATED:20250122T110007Z
LAST-MODIFIED:20250224T084509Z
UID:3331-1741012200-1741044600@forum50plus-erbach.de
SUMMARY:Fasnet im Forum
DESCRIPTION:Nach dem durchschlagenden Erfolg im letzten Jahr am „glombiga Doschdeg“ müssen wir diese junge Tradition unbedingt fortsetzen. \n\n\n\nIn diesem Jahr laden wir aber am Rosenmontag (3.3.) ab 14:30 Uhr in unseren Treff in der Jahnstraße ein.  Zu Kaffee und Kuchen gibt’s  auch die traditionellen Fasnetsklassiker wie Küchla\, Berliner etc. Auch ein kleines Vesper werden wir vorbereiten. \n\n\n\nFür die musikalische Unterhaltung und Stimmung sorgen in diesem Jahr „dia Zwoi“ (die Herren Fischinger und Kölle)mit  ihrem gesamten Instrumentarium . \n\n\n\n\n\n\n\nWir laden alle Erbacherinnen und Erbacher zu ein paar gemütlichen Stunden herzlich ein. Wer Lust hat\, darf gerne maskiert erscheinen. \n\n\n\nWir freuen uns auf Euch.
URL:https://forum50plus-erbach.de/event/fasnet-im-forum-2/
ATTACH;FMTTYPE=image/jpeg:https://forum50plus-erbach.de/wp-content/uploads/2025/01/Dia-zwoi.jpg
END:VEVENT
END:VCALENDAR