BEGIN:VCALENDAR
VERSION:2.0
PRODID:-//Forum50plus - ECPv6.15.20//NONSGML v1.0//EN
CALSCALE:GREGORIAN
METHOD:PUBLISH
X-ORIGINAL-URL:https://forum50plus-erbach.de
X-WR-CALDESC:Veranstaltungen für Forum50plus
REFRESH-INTERVAL;VALUE=DURATION:PT1H
X-Robots-Tag:noindex
X-PUBLISHED-TTL:PT1H
BEGIN:VTIMEZONE
TZID:Europe/Berlin
BEGIN:DAYLIGHT
TZOFFSETFROM:+0100
TZOFFSETTO:+0200
TZNAME:CEST
DTSTART:20240331T010000
END:DAYLIGHT
BEGIN:STANDARD
TZOFFSETFROM:+0200
TZOFFSETTO:+0100
TZNAME:CET
DTSTART:20241027T010000
END:STANDARD
BEGIN:DAYLIGHT
TZOFFSETFROM:+0100
TZOFFSETTO:+0200
TZNAME:CEST
DTSTART:20250330T010000
END:DAYLIGHT
BEGIN:STANDARD
TZOFFSETFROM:+0200
TZOFFSETTO:+0100
TZNAME:CET
DTSTART:20251026T010000
END:STANDARD
BEGIN:DAYLIGHT
TZOFFSETFROM:+0100
TZOFFSETTO:+0200
TZNAME:CEST
DTSTART:20260329T010000
END:DAYLIGHT
BEGIN:STANDARD
TZOFFSETFROM:+0200
TZOFFSETTO:+0100
TZNAME:CET
DTSTART:20261025T010000
END:STANDARD
END:VTIMEZONE
BEGIN:VEVENT
DTSTART;TZID=Europe/Berlin:20250120T190000
DTEND;TZID=Europe/Berlin:20250120T203000
DTSTAMP:20260423T192502
CREATED:20250102T153054Z
LAST-MODIFIED:20250119T094719Z
UID:3281-1737399600-1737405000@forum50plus-erbach.de
SUMMARY:Gesund altern - aber wie ?
DESCRIPTION:Alle wollen ein hohes Lebensalter erreichten\, aber keiner möchte alt sein. Warum ? Weil mit „alt“ Begriffe wie tattrig\, hinfällig\, krank\, vergesslich verbunden werden.Dabei kennen wir wahrscheinlich alle positive Gegenbeispiele. Wie also geht das ? Wann müssen wir die Weichen für ein gesundes Alter stellen ? Mit 40 oder 50 ?Kann ich auch mit 60 oder älter noch den Alterungsprozess beeinflussen ?Zu diesem Thema haben wir einen besonders kompetenten Montagsgast gewonnen: Prof. Michael Denkinger von der Agaplesion/Bethesda Klinik in Ulm. Der Umgang mit älterenMenschen ist sozusagen sein tägliches Brot.Wir möchten mit dieser Veranstaltung auch ausdrücklich Menschen U 50 ansprechen.Kommen Sie am 20 Januar um 19 Uhr ins Forum 50plus – ich bin sicher\, es lohnt sich !
URL:https://forum50plus-erbach.de/event/gesund-altern-aber-wie/
ATTACH;FMTTYPE=image/jpeg:https://forum50plus-erbach.de/wp-content/uploads/2025/01/Denkinger-klein.jpg
END:VEVENT
END:VCALENDAR