BEGIN:VCALENDAR
VERSION:2.0
PRODID:-//Forum50plus - ECPv6.15.20//NONSGML v1.0//EN
CALSCALE:GREGORIAN
METHOD:PUBLISH
X-ORIGINAL-URL:https://forum50plus-erbach.de
X-WR-CALDESC:Veranstaltungen für Forum50plus
REFRESH-INTERVAL;VALUE=DURATION:PT1H
X-Robots-Tag:noindex
X-PUBLISHED-TTL:PT1H
BEGIN:VTIMEZONE
TZID:Europe/Berlin
BEGIN:DAYLIGHT
TZOFFSETFROM:+0100
TZOFFSETTO:+0200
TZNAME:CEST
DTSTART:20230326T010000
END:DAYLIGHT
BEGIN:STANDARD
TZOFFSETFROM:+0200
TZOFFSETTO:+0100
TZNAME:CET
DTSTART:20231029T010000
END:STANDARD
BEGIN:DAYLIGHT
TZOFFSETFROM:+0100
TZOFFSETTO:+0200
TZNAME:CEST
DTSTART:20240331T010000
END:DAYLIGHT
BEGIN:STANDARD
TZOFFSETFROM:+0200
TZOFFSETTO:+0100
TZNAME:CET
DTSTART:20241027T010000
END:STANDARD
BEGIN:DAYLIGHT
TZOFFSETFROM:+0100
TZOFFSETTO:+0200
TZNAME:CEST
DTSTART:20250330T010000
END:DAYLIGHT
BEGIN:STANDARD
TZOFFSETFROM:+0200
TZOFFSETTO:+0100
TZNAME:CET
DTSTART:20251026T010000
END:STANDARD
END:VTIMEZONE
BEGIN:VEVENT
DTSTART;TZID=Europe/Berlin:20241026T190000
DTEND;TZID=Europe/Berlin:20241026T233000
DTSTAMP:20260425T131956
CREATED:20240813T130731Z
LAST-MODIFIED:20240922T221001Z
UID:3046-1729969200-1729985400@forum50plus-erbach.de
SUMMARY:Tanzabend in der Erlenbachhalle
DESCRIPTION:Tanzabend für jung und alt in der Erlenbachhalle \n\n\n\nNach dem großen Erfolg im letzen Jahr mussten wir einfach eine zweite Auflage für 2024 planen. \n\n\n\nWieder gibt es Tanzmusik in allen Stilarten\, Einlagen von unseren Tanzgruppen und Bewirtung mit  Häppchen und Getränken von unserem  Team vom Forum-Treff
URL:https://forum50plus-erbach.de/event/tanzabend-in-der-erlenbachhalle-2/
END:VEVENT
END:VCALENDAR