BEGIN:VCALENDAR
VERSION:2.0
PRODID:-//Forum50plus - ECPv6.15.20//NONSGML v1.0//EN
CALSCALE:GREGORIAN
METHOD:PUBLISH
X-WR-CALNAME:Forum50plus
X-ORIGINAL-URL:https://forum50plus-erbach.de
X-WR-CALDESC:Veranstaltungen für Forum50plus
REFRESH-INTERVAL;VALUE=DURATION:PT1H
X-Robots-Tag:noindex
X-PUBLISHED-TTL:PT1H
BEGIN:VTIMEZONE
TZID:Europe/Berlin
BEGIN:DAYLIGHT
TZOFFSETFROM:+0100
TZOFFSETTO:+0200
TZNAME:CEST
DTSTART:20230326T010000
END:DAYLIGHT
BEGIN:STANDARD
TZOFFSETFROM:+0200
TZOFFSETTO:+0100
TZNAME:CET
DTSTART:20231029T010000
END:STANDARD
BEGIN:DAYLIGHT
TZOFFSETFROM:+0100
TZOFFSETTO:+0200
TZNAME:CEST
DTSTART:20240331T010000
END:DAYLIGHT
BEGIN:STANDARD
TZOFFSETFROM:+0200
TZOFFSETTO:+0100
TZNAME:CET
DTSTART:20241027T010000
END:STANDARD
BEGIN:DAYLIGHT
TZOFFSETFROM:+0100
TZOFFSETTO:+0200
TZNAME:CEST
DTSTART:20250330T010000
END:DAYLIGHT
BEGIN:STANDARD
TZOFFSETFROM:+0200
TZOFFSETTO:+0100
TZNAME:CET
DTSTART:20251026T010000
END:STANDARD
END:VTIMEZONE
BEGIN:VEVENT
DTSTART;TZID=Europe/Berlin:20241021T190000
DTEND;TZID=Europe/Berlin:20241021T203000
DTSTAMP:20260425T131721
CREATED:20241014T223208Z
LAST-MODIFIED:20241014T223209Z
UID:3162-1729537200-1729542600@forum50plus-erbach.de
SUMMARY:Vorstellung des neuen Jahreskalenders des HKV
DESCRIPTION:Auch dieses Jahr hat der Heimat- und Kulturverein wieder einen Kalender zusammengestellt\, dieses Mal mit faszinierenden Tierfotos von Eugen Bergmann. An diesem Abend können Sie die Bilder im Großformat per Beamer betrachten und als eine der ersten den Kalender erwerben ! Ein Muss für alle Natur- und Fotofreunde ! \n\n\n\nIm Anschluss wird Karl Joos\, ein bekannter Erbacher Ornithologe\, die Entwicklung des  Polders zwischen Erbach und Dellmensingen erläutern. \n\n\n\nDie Präsentation findet am Montag\, den 21.10. um 19 Uhr im Forum 50plus statt.
URL:https://forum50plus-erbach.de/event/vorstellung-des-neuen-jahreskalenders-des-hkv/
END:VEVENT
END:VCALENDAR