BEGIN:VCALENDAR
VERSION:2.0
PRODID:-//Forum50plus - ECPv6.15.20//NONSGML v1.0//EN
CALSCALE:GREGORIAN
METHOD:PUBLISH
X-WR-CALNAME:Forum50plus
X-ORIGINAL-URL:https://forum50plus-erbach.de
X-WR-CALDESC:Veranstaltungen für Forum50plus
REFRESH-INTERVAL;VALUE=DURATION:PT1H
X-Robots-Tag:noindex
X-PUBLISHED-TTL:PT1H
BEGIN:VTIMEZONE
TZID:Europe/Berlin
BEGIN:DAYLIGHT
TZOFFSETFROM:+0100
TZOFFSETTO:+0200
TZNAME:CEST
DTSTART:20230326T010000
END:DAYLIGHT
BEGIN:STANDARD
TZOFFSETFROM:+0200
TZOFFSETTO:+0100
TZNAME:CET
DTSTART:20231029T010000
END:STANDARD
BEGIN:DAYLIGHT
TZOFFSETFROM:+0100
TZOFFSETTO:+0200
TZNAME:CEST
DTSTART:20240331T010000
END:DAYLIGHT
BEGIN:STANDARD
TZOFFSETFROM:+0200
TZOFFSETTO:+0100
TZNAME:CET
DTSTART:20241027T010000
END:STANDARD
BEGIN:DAYLIGHT
TZOFFSETFROM:+0100
TZOFFSETTO:+0200
TZNAME:CEST
DTSTART:20250330T010000
END:DAYLIGHT
BEGIN:STANDARD
TZOFFSETFROM:+0200
TZOFFSETTO:+0100
TZNAME:CET
DTSTART:20251026T010000
END:STANDARD
END:VTIMEZONE
BEGIN:VEVENT
DTSTART;TZID=Europe/Berlin:20241012T170000
DTEND;TZID=Europe/Berlin:20241012T230000
DTSTAMP:20260425T131743
CREATED:20240813T130315Z
LAST-MODIFIED:20240924T222734Z
UID:3044-1728752400-1728774000@forum50plus-erbach.de
SUMMARY:Herbsthockete
DESCRIPTION:Wir laden herzlich ein \n\n\n\nzur Herbsthockete im Forum 50 plus-Treff \n\n\n\nam Samstag\, 12. Okt. 2024\, Beginn 17:00 Uhr. \n\n\n\nStimmung und Unterhaltung mit dem Musik-Duo Junginger. \n\n\n\nErlesene Weine und verschiedene schwäbische Köstlichkeiten . \n\n\n\nWir freuen uns auf Euch
URL:https://forum50plus-erbach.de/event/herbsthockete-2/
END:VEVENT
END:VCALENDAR