BEGIN:VCALENDAR
VERSION:2.0
PRODID:-//Forum50plus - ECPv6.15.20//NONSGML v1.0//EN
CALSCALE:GREGORIAN
METHOD:PUBLISH
X-WR-CALNAME:Forum50plus
X-ORIGINAL-URL:https://forum50plus-erbach.de
X-WR-CALDESC:Veranstaltungen für Forum50plus
REFRESH-INTERVAL;VALUE=DURATION:PT1H
X-Robots-Tag:noindex
X-PUBLISHED-TTL:PT1H
BEGIN:VTIMEZONE
TZID:Europe/Berlin
BEGIN:DAYLIGHT
TZOFFSETFROM:+0100
TZOFFSETTO:+0200
TZNAME:CEST
DTSTART:20230326T010000
END:DAYLIGHT
BEGIN:STANDARD
TZOFFSETFROM:+0200
TZOFFSETTO:+0100
TZNAME:CET
DTSTART:20231029T010000
END:STANDARD
BEGIN:DAYLIGHT
TZOFFSETFROM:+0100
TZOFFSETTO:+0200
TZNAME:CEST
DTSTART:20240331T010000
END:DAYLIGHT
BEGIN:STANDARD
TZOFFSETFROM:+0200
TZOFFSETTO:+0100
TZNAME:CET
DTSTART:20241027T010000
END:STANDARD
BEGIN:DAYLIGHT
TZOFFSETFROM:+0100
TZOFFSETTO:+0200
TZNAME:CEST
DTSTART:20250330T010000
END:DAYLIGHT
BEGIN:STANDARD
TZOFFSETFROM:+0200
TZOFFSETTO:+0100
TZNAME:CET
DTSTART:20251026T010000
END:STANDARD
END:VTIMEZONE
BEGIN:VEVENT
DTSTART;TZID=Europe/Berlin:20240923T190000
DTEND;TZID=Europe/Berlin:20240923T203000
DTSTAMP:20260425T143802
CREATED:20240813T135030Z
LAST-MODIFIED:20240818T213833Z
UID:3048-1727118000-1727123400@forum50plus-erbach.de
SUMMARY:Künstliche Intelligenz
DESCRIPTION:(und Sie verstehen nur „Bahnhof“ ?) \n\n\n\n\n\n\n\n\n\nKünstliche Intelligenz (KI) ist die Fähigkeit von Maschinen oder Systemen\, intelligentes Verhalten zu zeigen. Rasant findet sie Anwendungen in Bereichen wie Gesundheit\, Bildung\, Verkehr\, Landwirtschaft und Unterhaltung. Einerseits handelt es sich um Chancen für Wachstum\, Innovation und Wohlstand\, andererseits sind damit Risiken für Sicherheit\, Demokratie\, Ethik und Arbeitsplätze verbunden. Dieser Vortrag ist ein Erklärungsversuch\, in dem Sie grundsätzliche Informationen auf möglichst verständlichem Niveau erhalten\, um Ihre Neugierde zu wecken und einen eigenen Standpunkt zu entwickeln. \n\n\n\nReferent: Peter Eger\, STIC – Generationentreff Ulm
URL:https://forum50plus-erbach.de/event/kuenstliche-intelligenz/
CATEGORIES:Montagsgast,Veranstaltungen
END:VEVENT
END:VCALENDAR